BEGIN:VCALENDAR
VERSION:2.0
PRODID:Imitheme.com 
BEGIN:VEVENT
UID:20260419T120541744373919
DTSTAMP;TZID=UTC:2026-04-19 12:05:41
DTSTART;TZID=America/Los_Angeles:20260419T120541
DTEND;TZID=America/Los_Angeles:20260419T120541
SUMMARY:IFFC Monthly Meeting Saturday 18th April 6:30 PM
LOCATION:
DESCRIPTION:
URL:https://friendsforchrist.com/eventer/iffc-monthly-meeting-saturday-18th-april-630-pm/
END:VEVENT
END:VCALENDAR
